Workbook

Sheet alimentacion
I2: SEDE DE MONJAS , JALAPA | P2: SEDE DE COMALAPA CHIMALTENANGO | W2: SEDE DE DOLORES PETEN
B3: Compras Generales
B4: CANTIDAD | C4: DESCRIPCION | D4: P UNITARIO | E4: P TOTAL | H4: CANTIDAD | I4: DESCRIPCION | J4: P UNITARIO | K4: P TOTAL | O4: CANTIDAD | P4: DESCRIPCION | Q4: P UNITARIO | R4: P TOTAL | V4: CANTIDAD | W4: DESCRIPCION | X4: P UNITARIO | Y4: P TOTAL
B5: 0 | C5: Gas propano de 25 libras | D5: 135 | E5: =+B5*D5 -> 0 | G5: numero 1 | K5: 0 | U5: numero 1
B6: 40 | C6: Leche entera en polvo de 2200 g | D6: 150 | E6: =+B6*D6 -> 6000 | H6: 20 | I6: Leche entera en polvo de 2200 g | J6: 150 | K6: =+J6*H6 -> 3000 | N6: numero 1 | O6: 10 | P6: Leche entera en polvo de 2200 g | Q6: 150 | R6: =+O6*Q6 -> 1500 | V6: 10 | W6: Leche entera en polvo de 2200 g | X6: 150 | Y6: =+V6*X6 -> 1500
B7: 48 | C7: Leche descremada en polvo de 1500 g | D7: 129 | E7: =+B7*D7 -> 6192 | H7: 24 | I7: Leche descremada en polvo de 1500 g | J7: 129 | K7: =+J7*H7 -> 3096 | O7: 12 | P7: Leche descremada en polvo de 1500 g | Q7: 129 | R7: =+O7*Q7 -> 1548 | V7: 12 | W7: Leche descremada en polvo de 1500 g | X7: 129 | Y7: =+V7*X7 -> 1548
B8: 50 | C8: Café Instantaneo Soluble de 300g | D8: 60 | E8: =+B8*D8 -> 3000 | H8: 25 | I8: Café Instantaneo Soluble de 300g | J8: 60 | K8: =+J8*H8 -> 1500 | O8: 13 | P8: Café Instantaneo Soluble de 300g | Q8: 60 | R8: =+O8*Q8 -> 780 | V8: 12 | W8: Café Instantaneo Soluble de 300g | X8: 60 | Y8: =+V8*X8 -> 720
B9: 60 | C9: Café molido y tostado 350g | D9: 28 | E9: =+B9*D9 -> 1680 | H9: 30 | I9: Café molido y tostado 350g | J9: 28 | K9: =+J9*H9 -> 840 | O9: 15 | P9: Café molido y tostado 350g | Q9: 28 | R9: =+O9*Q9 -> 420 | V9: 15 | W9: Café molido y tostado 350g | X9: 28 | Y9: =+V9*X9 -> 420
B10: 230 | C10: Libra de frijol Negro | D10: 7.55 | E10: =+B10*D10 -> 1736.5 | H10: 115 | I10: Libra de frijol Negro | J10: 7.55 | K10: =+J10*H10 -> 868.25 | O10: 58 | P10: Libra de frijol Negro | Q10: 7.55 | R10: =+O10*Q10 -> 437.9 | V10: 57 | W10: Libra de frijol Negro | X10: 7.55 | Y10: =+V10*X10 -> 430.35
B11: 300 | C11: Harina de haba para atol 425g | D11: 12.6 | E11: =+B11*D11 -> 3780 | H11: 150 | I11: Harina de haba para atol 425g | J11: 12.6 | K11: =+J11*H11 -> 1890 | O11: 75 | P11: Harina de haba para atol 425g | Q11: 12.6 | R11: =+O11*Q11 -> 945 | V11: 75 | W11: Harina de haba para atol 425g | X11: 12.6 | Y11: =+V11*X11 -> 945
B12: 280 | C12: Atol Corazon de trigo | D12: 7.8 | E12: =+B12*D12 -> 2184 | H12: 140 | I12: Atol Corazon de trigo | J12: 7.8 | K12: =+J12*H12 -> 1092 | O12: 70 | P12: Atol Corazon de trigo | Q12: 7.8 | R12: =+O12*Q12 -> 546 | V12: 70 | W12: Atol Corazon de trigo | X12: 7.8 | Y12: =+V12*X12 -> 546
B13: 110 | C13: Mezcla Vegetal fortificada para Hacer Atol 900g | D13: 20.45 | E13: =+B13*D13 -> 2249.5 | H13: 55 | I13: Mezcla Vegetal fortificada para Hacer Atol 900g | J13: 20.45 | K13: =+J13*H13 -> 1124.75 | O13: 28 | P13: Mezcla Vegetal fortificada para Hacer Atol 900g | Q13: 20.45 | R13: =+O13*Q13 -> 572.6 | V13: 27 | W13: Mezcla Vegetal fortificada para Hacer Atol 900g | X13: 20.45 | Y13: =+V13*X13 -> 552.15
B14: 76 | C14: Bebida vegetal fortificada con edulzante artificial 6pack 200ml c/u | D14: 18.5 | E14: =+B14*D14 -> 1406 | H14: 38 | I14: Bebida vegetal fortificada con edulzante artificial 6pack 200ml c/u | J14: 18.5 | K14: =+J14*H14 -> 703 | O14: 19 | P14: Bebida vegetal fortificada con edulzante artificial 6pack 200ml c/u | Q14: 18.5 | R14: =+O14*Q14 -> 351.5 | V14: 19 | W14: Bebida vegetal fortificada con edulzante artificial 6pack 200ml c/u | X14: 18.5 | Y14: =+V14*X14 -> 351.5
B15: 152 | C15: Bebida vegetal fortificada 6pack 200ml c/u | D15: 16 | E15: =+B15*D15 -> 2432 | H15: 76 | I15: Bebida vegetal fortificada 6pack 200ml c/u | J15: 16 | K15: =+J15*H15 -> 1216 | O15: 38 | P15: Bebida vegetal fortificada 6pack 200ml c/u | Q15: 16 | R15: =+O15*Q15 -> 608 | V15: 38 | W15: Bebida vegetal fortificada 6pack 200ml c/u | X15: 16 | Y15: =+V15*X15 -> 608
B16: 146 | C16: Carton de Huevos de 30 unidades | D16: 43.9 | E16: =+B16*D16 -> 6409.4 | H16: 73 | I16: Carton de Huevos de 30 unidades | J16: 43.9 | K16: =+J16*H16 -> 3204.7 | O16: 37 | P16: Carton de Huevos de 30 unidades | Q16: 43.9 | R16: =+O16*Q16 -> 1624.3 | V16: 36 | W16: Carton de Huevos de 30 unidades | X16: 43.9 | Y16: =+V16*X16 -> 1580.4
B17: 100 | C17: Margarina reducida en grasa 400g | D17: 11.5 | E17: =+B17*D17 -> 1150 | H17: 50 | I17: Margarina reducida en grasa 400g | J17: 11.5 | K17: =+J17*H17 -> 575 | O17: 25 | P17: Margarina reducida en grasa 400g | Q17: 11.5 | R17: =+O17*Q17 -> 287.5 | V17: 25 | W17: Margarina reducida en grasa 400g | X17: 11.5 | Y17: =+V17*X17 -> 287.5
B18: 56 | C18: Harina de trigo 5 libras | D18: 37.85 | E18: =+B18*D18 -> 2119.6 | H18: 28 | I18: Harina de trigo 5 libras | J18: 37.85 | K18: =+J18*H18 -> 1059.8 | O18: 14 | P18: Harina de trigo 5 libras | Q18: 37.85 | R18: =+O18*Q18 -> 529.9 | V18: 14 | W18: Harina de trigo 5 libras | X18: 37.85 | Y18: =+V18*X18 -> 529.9
B19: 100 | C19: Harina de Maiz Nixtamalizado 2000 g | D19: 30 | E19: =+B19*D19 -> 3000 | H19: 50 | I19: Harina de Maiz Nixtamalizado 2000 g | J19: 30 | K19: =+J19*H19 -> 1500 | L19: TOTAL | O19: 25 | P19: Harina de Maiz Nixtamalizado 2000 g | Q19: 30 | R19: =+O19*Q19 -> 750 | V19: 25 | W19: Harina de Maiz Nixtamalizado 2000 g | X19: 30 | Y19: =+V19*X19 -> 750
B20: 100 | C20: Fecula de maiz 380g | D20: 20.95 | E20: =+B20*D20 -> 2095 | H20: 50 | I20: Fecula de maiz 380g | J20: 20.95 | K20: =+J20*H20 -> 1047.5 | L20: =SUM(K6:K20) -> 22717 | O20: 25 | P20: Fecula de maiz 380g | Q20: 20.95 | R20: =+O20*Q20 -> 523.75 | V20: 25 | W20: Fecula de maiz 380g | X20: 20.95 | Y20: =+V20*X20 -> 523.75
B21: 88 | C21: Azucar morena presentación de 2000 g | D21: 17.4 | E21: =+B21*D21 -> 1531.2 | G21: numero 2 | H21: 44 | I21: Azucar morena presentación de 2000 g | J21: 17.4 | K21: =+J21*H21 -> 765.6 | O21: 22 | P21: Azucar morena presentación de 2000 g | Q21: 17.4 | R21: =+O21*Q21 -> 382.8 | V21: 22 | W21: Azucar morena presentación de 2000 g | X21: 17.4 | Y21: =+V21*X21 -> 382.8
B22: 60 | C22: Sal yodada artesanal 920g | D22: 2.65 | E22: =+B22*D22 -> 159 | H22: 30 | I22: Sal yodada artesanal 920g | J22: 2.65 | K22: =+J22*H22 -> 79.5 | O22: 15 | P22: Sal yodada artesanal 920g | Q22: 2.65 | R22: =+O22*Q22 -> 39.75 | V22: 15 | W22: Sal yodada artesanal 920g | X22: 2.65 | Y22: =+V22*X22 -> 39.75
B23: 150 | C23: Pasta larga Espagueti 200g | D23: 4.5 | E23: =+B23*D23 -> 675 | H23: 75 | I23: Pasta larga Espagueti 200g | J23: 4.5 | K23: =+J23*H23 -> 337.5 | O23: 38 | P23: Pasta larga Espagueti 200g | Q23: 4.5 | R23: =+O23*Q23 -> 171 | V23: 37 | W23: Pasta larga Espagueti 200g | X23: 4.5 | Y23: =+V23*X23 -> 166.5
B24: 150 | C24: Pasta de Codito 200g | D24: 4.2 | E24: =+B24*D24 -> 630 | H24: 75 | I24: Pasta de Codito 200g | J24: 4.2 | K24: =+J24*H24 -> 315 | O24: 38 | P24: Pasta de Codito 200g | Q24: 4.2 | R24: =+O24*Q24 -> 159.6 | V24: 37 | W24: Pasta de Codito 200g | X24: 4.2 | Y24: =+V24*X24 -> 155.4
B25: 150 | C25: Pasta corta pluma 200 g | D25: 4.5 | E25: =+B25*D25 -> 675 | H25: 75 | I25: Pasta corta pluma 200 g | J25: 4.5 | K25: =+J25*H25 -> 337.5 | O25: 38 | P25: Pasta corta pluma 200 g | Q25: 4.5 | R25: =+O25*Q25 -> 171 | V25: 37 | W25: Pasta corta pluma 200 g | X25: 4.5 | Y25: =+V25*X25 -> 166.5
B26: 150 | C26: Pasta corta corbaton 200g | D26: 4.5 | E26: =+B26*D26 -> 675 | H26: 75 | I26: Pasta corta corbaton 200g | J26: 4.5 | K26: =+J26*H26 -> 337.5 | O26: 38 | P26: Pasta corta corbaton 200g | Q26: 4.5 | R26: =+O26*Q26 -> 171 | V26: 37 | W26: Pasta corta corbaton 200g | X26: 4.5 | Y26: =+V26*X26 -> 166.5
B27: 150 | C27: Pasta tornillo 200g | D27: 4 | E27: =+B27*D27 -> 600 | H27: 75 | I27: Pasta tornillo 200g | J27: 4 | K27: =+J27*H27 -> 300 | O27: 38 | P27: Pasta tornillo 200g | Q27: 4 | R27: =+O27*Q27 -> 152 | V27: 37 | W27: Pasta tornillo 200g | X27: 4 | Y27: =+V27*X27 -> 148
B28: 60 | C28: Aceite vegetal 3000 ml | D28: 80 | E28: =+B28*D28 -> 4800 | H28: 30 | I28: Aceite vegetal 3000 ml | J28: 80 | K28: =+J28*H28 -> 2400 | O28: 15 | P28: Aceite vegetal 3000 ml | Q28: 80 | R28: =+O28*Q28 -> 1200 | V28: 15 | W28: Aceite vegetal 3000 ml | X28: 80 | Y28: =+V28*X28 -> 1200
B29: 560 | C29: Libra de pollo cuadril y pierna | D29: 11 | E29: =+B29*D29 -> 6160 | H29: 280 | I29: Libra de pollo cuadril y pierna | J29: 11 | K29: =+J29*H29 -> 3080 | O29: 140 | P29: Libra de pollo cuadril y pierna | Q29: 11 | R29: =+O29*Q29 -> 1540 | V29: 140 | W29: Libra de pollo cuadril y pierna | X29: 11 | Y29: =+V29*X29 -> 1540
B30: 40 | C30: Libra de Carne De Res Camote | D30: 55 | E30: =+B30*D30 -> 2200 | H30: 20 | I30: Libra de Carne De Res Camote | J30: 55 | K30: =+J30*H30 -> 1100 | O30: 10 | P30: Libra de Carne De Res Camote | Q30: 55 | R30: =+O30*Q30 -> 550 | V30: 10 | W30: Libra de Carne De Res Camote | X30: 55 | Y30: =+V30*X30 -> 550
B31: 60 | C31: Libra de Carne De Res Falda | D31: 40 | E31: =+B31*D31 -> 2400 | H31: 30 | I31: Libra de Carne De Res Falda | J31: 40 | K31: =+J31*H31 -> 1200 | O31: 15 | P31: Libra de Carne De Res Falda | Q31: 40 | R31: =+O31*Q31 -> 600 | V31: 15 | W31: Libra de Carne De Res Falda | X31: 40 | Y31: =+V31*X31 -> 600
B32: 50 | C32: Azucar morena presentación de 4500 g | D32: 40 | E32: =+B32*D32 -> 2000 | H32: 25 | I32: Azucar morena presentación de 4500 g | J32: 40 | K32: =+J32*H32 -> 1000 | O32: 13 | P32: Azucar morena presentación de 4500 g | Q32: 40 | R32: =+O32*Q32 -> 520 | V32: 12 | W32: Azucar morena presentación de 4500 g | X32: 40 | Y32: =+V32*X32 -> 480
B33: 60 | C33: Carne De Res Bolovique | D33: 40 | E33: =+B33*D33 -> 2400 | H33: 30 | I33: Carne De Res Bolovique | J33: 40 | K33: =+J33*H33 -> 1200 | O33: 15 | P33: Carne De Res Bolovique | Q33: 40 | R33: =+O33*Q33 -> 600 | V33: 15 | W33: Carne De Res Bolovique | X33: 40 | Y33: =+V33*X33 -> 600
... B41: 160 | C41: Pasta para Chao Mein 180 g | D41: 5.5 | E41: =+B41*D41 -> 880 | H41: 80 | I41: Pasta para Chao Mein 180 g | J41: 5.5 | K41: =+J41*H41 -> 440 | O41: 40 | P41: Pasta para Chao Mein 180 g | Q41: 5.5 | R41: =+O41*Q41 -> 220 | V41: 40 | W41: Pasta para Chao Mein 180 g | X41: 5.5 | Y41: =+V41*X41 -> 220
B42: 60 | C42: Cereal de Maiz 800g | D42: 35 | E42: =+B42*D42 -> 2100 | H42: 30 | I42: Cereal de Maiz 800g | J42: 35 | K42: =+J42*H42 -> 1050 | L42: TOTAL | O42: 15 | P42: Cereal de Maiz 800g | Q42: 35 | R42: =+O42*Q42 -> 525 | V42: 15 | W42: Cereal de Maiz 800g | X42: 35 | Y42: =+V42*X42 -> 525
B43: 50 | C43: Mayonesa 1000g | D43: 24 | E43: =+B43*D43 -> 1200 | H43: 25 | I43: Mayonesa 1000g | J43: 24 | K43: =+J43*H43 -> 600 | L43: =SUM(K21:K43) -> 20605.6 | O43: 13 | P43: Mayonesa 1000g | Q43: 24 | R43: =+O43*Q43 -> 312 | V43: 12 | W43: Mayonesa 1000g | X43: 24 | Y43: =+V43*X43 -> 288
B44: 12 | C44: Aceite de oliva lata de 1000ml | D44: 130 | E44: =+B44*D44 -> 1560 | G44: numero 3 | H44: 6 | I44: Aceite de oliva lata de 1000ml | J44: 130 | K44: =+J44*H44 -> 780 | O44: 3 | P44: Aceite de oliva lata de 1000ml | Q44: 130 | R44: =+O44*Q44 -> 390 | V44: 3 | W44: Aceite de oliva lata de 1000ml | X44: 130 | Y44: =+V44*X44 -> 390
B45: 95 | C45: Libra de frijol Blanco | D45: 10.45 | E45: =+B45*D45 -> 992.75 | H45: 48 | I45: Libra de frijol Blanco | J45: 10.45 | K45: =+J45*H45 -> 501.6 | O45: 24 | P45: Libra de frijol Blanco | Q45: 10.45 | R45: =+O45*Q45 -> 250.8 | V45: 23 | W45: Libra de frijol Blanco | X45: 10.45 | Y45: =+V45*X45 -> 240.35
B46: 95 | C46: Libra de frijol Rojo | D46: 10.45 | E46: =+B46*D46 -> 992.75 | H46: 48 | I46: Libra de frijol Rojo | J46: 10.45 | K46: =+J46*H46 -> 501.6 | O46: 24 | P46: Libra de frijol Rojo | Q46: 10.45 | R46: =+O46*Q46 -> 250.8 | S46: TOTAL | V46: 23 | W46: Libra de frijol Rojo | X46: 10.45 | Y46: =+V46*X46 -> 240.35 | Z46: TOTAL
B47: 50 | C47: Salsa Inglesa 355 ml | D47: 13 | E47: =+B47*D47 -> 650 | H47: 25 | I47: Salsa Inglesa 355 ml | J47: 13 | K47: =+J47*H47 -> 325 | O47: 13 | P47: Salsa Inglesa 355 ml | Q47: 13 | R47: =+O47*Q47 -> 169 | S47: =SUM(R6:R47) -> 22856.36 | V47: 12 | W47: Salsa Inglesa 355 ml | X47: 13 | Y47: =+V47*X47 -> 156 | Z47: =SUM(Y6:Y47) -> 22553.54
B48: 200 | C48: Atún lomo en trocitos enlatado 140g | D48: 13 | E48: =+B48*D48 -> 2600 | H48: 100 | I48: Atún lomo en trocitos enlatado 140g | J48: 13 | K48: =+J48*H48 -> 1300 | N48: numero 2 | O48: 50 | P48: Atún lomo en trocitos enlatado 140g | Q48: 13 | R48: =+Q48*O48 -> 650 | U48: numero 2 | V48: 50 | W48: Atún lomo en trocitos enlatado 140g | X48: 13 | Y48: =+V48*X48 -> 650
...

Sheet sanitarios 
I1: SEDE DE MONJAS JALAPA | O1: SEDE DE COMALAPA | U1: SEDE DE DOLORES
C2: COMPRAS GENERALES
B3: CANTIDAD | C3: DESCRIPCION | D3: P UNITARIO | E3: P TOTAL | H3: CANTIDAD | I3: DESCRIPCION | J3: P UNITARIO | K3: P TOTAL | M3: numero 1 | N3: CANTIDAD | O3: DESCRIPCION | P3: P UNITARIO | Q3: P TOTAL | S3: numero 1 | T3: CANTIDAD | U3: DESCRIPCION | V3: P UNITARIO | W3: P TOTAL
B4: 55 | C4: Guante de latex talla S 100 unidades | D4: 110 | E4: =+B4*D4 -> 6050 | G4: numero 1 | H4: 27 | I4: Guante de latex talla S 100 unidades | J4: 110 | K4: =+H4*J4 -> 2970 | N4: 14 | O4: Guante de latex talla S 100 unidades | P4: 110 | Q4: =+N4*P4 -> 1540 | T4: 14 | U4: Guante de latex talla S 100 unidades | V4: 110 | W4: =+T4*V4 -> 1540
B5: 55 | C5: Guante de latex talla M 100 unidades | D5: 110 | E5: =+B5*D5 -> 6050 | H5: 27 | I5: Guante de latex talla M 100 unidades | J5: 110 | K5: =+H5*J5 -> 2970 | N5: 14 | O5: Guante de latex talla M 100 unidades | P5: 110 | Q5: =+N5*P5 -> 1540 | T5: 14 | U5: Guante de latex talla M 100 unidades | V5: 110 | W5: =+T5*V5 -> 1540
B6: 55 | C6: Guante de latex talla L 100 unidades | D6: 110 | E6: =+B6*D6 -> 6050 | H6: 27 | I6: Guante de latex talla L 100 unidades | J6: 110 | K6: =+H6*J6 -> 2970 | N6: 14 | O6: Guante de latex talla L 100 unidades | P6: 110 | Q6: =+N6*P6 -> 1540 | T6: 14 | U6: Guante de latex talla L 100 unidades | V6: 110 | W6: =+T6*V6 -> 1540
B7: 300 | C7: Toallas humedas 80 unidades | D7: 13 | E7: =+B7*D7 -> 3900 | H7: 150 | I7: Toallas humedas 80 unidades | J7: 13 | K7: =+H7*J7 -> 1950 | N7: 75 | O7: Toallas humedas 80 unidades | P7: 13 | Q7: =+N7*P7 -> 975 | T7: 75 | U7: Toallas humedas 80 unidades | V7: 13 | W7: =+T7*V7 -> 975
B8: 120 | C8: Papel higienico fardo 12 Unidades | D8: 50 | E8: =+B8*D8 -> 6000 | H8: 60 | I8: Papel higienico fardo 12 Unidades | J8: 50 | K8: =+H8*J8 -> 3000 | N8: 30 | O8: Papel higienico fardo 12 Unidades | P8: 50 | Q8: =+N8*P8 -> 1500 | T8: 30 | U8: Papel higienico fardo 12 Unidades | V8: 50 | W8: =+T8*V8 -> 1500
C10: TOTAL | E10: =SUM(E4:E9) -> 28050 | I10: TOTAL | K10: =SUM(K4:K9) -> 13860 | O10: TOTAL | Q10: =SUM(Q4:Q9) -> 7095 | U10: TOTAL | W10: =SUM(W4:W9) -> 7095
D14: 96000
C15: total presupuestado baja cuantia | D15: =SUM(K10,Q10,W10) -> 28050
D16: =SUM(D14,D15) -> 124050

Sheet limpieza 
C2: COMPRA GENERAL | I2: SEDE DE MONJAS | O2: SEDE DE COMALAPA | U2: SEDE DE DOLORES
B4: CANTIDAD | C4: DESCRIPCION | D4: P UNITARIO | E4: P TOTAL | G4: numero 1 | H4: CANTIDAD | I4: DESCRIPCION | J4: P UNITARIO | K4: P TOTAL | M4: numero 1 | N4: CANTIDAD | O4: DESCRIPCION | P4: P UNITARIO | Q4: P TOTAL | S4: nunero 1 | T4: CANTIDAD | U4: DESCRIPCION | V4: P UNITARIO | W4: P TOTAL
B5: 140 | C5: jabón en polvo 10Kg | D5: 170 | E5: =+B5*D5 -> 23800 | H5: 70 | I5: jabón en polvo 10Kg | J5: 170 | K5: =+H5*J5 -> 11900 | N5: 35 | O5: jabón en polvo 10Kg | P5: 170 | Q5: =+N5*P5 -> 5950 | T5: 35 | U5: jabón en polvo 10Kg | V5: 170 | W5: =+T5*V5 -> 5950
B6: 300 | C6: Jabón en Bola 3 pack 375g c/u | D6: 20 | E6: =+B6*D6 -> 6000 | H6: 150 | I6: Jabón en Bola 3 pack 375g c/u | J6: 20 | K6: =+H6*J6 -> 3000 | N6: 75 | O6: Jabón en Bola 3 pack 375g c/u | P6: 20 | Q6: =+N6*P6 -> 1500 | T6: 75 | U6: Jabón en Bola 3 pack 375g c/u | V6: 20 | W6: =+T6*V6 -> 1500
B7: 300 | C7: Jabón natural en Bola 3 pack 300g c/u | D7: 20 | E7: =+B7*D7 -> 6000 | H7: 150 | I7: Jabón natural en Bola 3 pack 300g c/u | J7: 20 | K7: =+H7*J7 -> 3000 | N7: 75 | O7: Jabón natural en Bola 3 pack 300g c/u | P7: 20 | Q7: =+N7*P7 -> 1500 | T7: 75 | U7: Jabón natural en Bola 3 pack 300g c/u | V7: 20 | W7: =+T7*V7 -> 1500
B8: 500 | C8: Lavaplatos Limon 1000 gramos | D8: 24 | E8: =+B8*D8 -> 12000 | H8: 250 | I8: Lavaplatos Limon 1000 gramos | J8: 24 | K8: =+H8*J8 -> 6000 | N8: 125 | O8: Lavaplatos Limon 1000 gramos | P8: 24 | Q8: =+N8*P8 -> 3000 | T8: 125 | U8: Lavaplatos Limon 1000 gramos | V8: 24 | W8: =+T8*V8 -> 3000
C10: TOTAL | E10: =SUM(E5:E9) -> 47800 | I10: TOTAL | K10: =SUM(K5:K9) -> 23900 | O10: TOTAL | Q10: =SUM(Q5:Q9) -> 11950 | U10: TOTAL | W10: =SUM(W5:W9) -> 11950
C14: total presupuestado | D14: =SUM(,K10,Q10,W10) -> 47800

Sheet Resumen
C2: Asociación Gloria por Cenizas
C3: Cuentas por Pagar
C4: Mes de Octubre, 2023
E7: Cantidades Expresadas en Q.
C10: No. | D10: PROVEEDOR | E10: ALIMENTACION | F10: UTILES DE LIMPIEZA | G10: PRODUCTOS SANITARIOS | H10: PRODUCTOS MEDICINALES | I10: TOTAL POR PROVEEDOR
C12: 1 | D12: ABARROTERIA AVALOS | E12: =+alimentacion!L20+alimentacion!L43+alimentacion!L70+alimentacion!L75+alimentacion!Y78 -> 109218.99 | F12: =+'limpieza '!K10+'limpieza '!W10 -> 35850 | G12: =+'sanitarios '!K10+'sanitarios '!W10 -> 20955 | I12: =SUM(E12:H12) -> 166023.99
C13: 2 | D13: ALIMENTOS LUCERITO | E13: =+alimentacion!R78 -> 36735.21 | F13: =+'limpieza '!Q10 -> 11950 | G13: =+'sanitarios '!Q10 -> 7095 | I13: =SUM(E13:H13) -> 55780.21
C14: 3 | D14: FARMACIA HIDALGO | E14: 0 | F14: 0 | G14: 0 | H14: 0 | I14: =SUM(E14:H14) -> 0
I15: =SUM(E15:H15) -> 0
I16: =SUM(E16:H16) -> 0
I17: =SUM(E17:H17) -> 0
D19: TOTAL POR RUBRO | E19: =SUM(E12:E18) -> 145954.2 | F19: =SUM(F12:F18) -> 47800 | G19: =SUM(G12:G18) -> 28050 | H19: =SUM(H12:H18) -> 0 | I19: =SUM(E19:H19) -> 221804.2
B32: Total a Abril
